BEGIN:VCALENDAR
VERSION:2.0
PRODID:-//Amisha Tala Oak // All That We Are - ECPv6.15.12.2//NONSGML v1.0//EN
CALSCALE:GREGORIAN
METHOD:PUBLISH
X-ORIGINAL-URL:https://amisha.co.uk
X-WR-CALDESC:Events for Amisha Tala Oak // All That We Are
REFRESH-INTERVAL;VALUE=DURATION:PT1H
X-Robots-Tag:noindex
X-PUBLISHED-TTL:PT1H
BEGIN:VTIMEZONE
TZID:Europe/London
BEGIN:DAYLIGHT
TZOFFSETFROM:+0000
TZOFFSETTO:+0100
TZNAME:BST
DTSTART:20150329T010000
END:DAYLIGHT
BEGIN:STANDARD
TZOFFSETFROM:+0100
TZOFFSETTO:+0000
TZNAME:GMT
DTSTART:20151025T010000
END:STANDARD
BEGIN:DAYLIGHT
TZOFFSETFROM:+0000
TZOFFSETTO:+0100
TZNAME:BST
DTSTART:20160327T010000
END:DAYLIGHT
BEGIN:STANDARD
TZOFFSETFROM:+0100
TZOFFSETTO:+0000
TZNAME:GMT
DTSTART:20161030T010000
END:STANDARD
BEGIN:DAYLIGHT
TZOFFSETFROM:+0000
TZOFFSETTO:+0100
TZNAME:BST
DTSTART:20170326T010000
END:DAYLIGHT
BEGIN:STANDARD
TZOFFSETFROM:+0100
TZOFFSETTO:+0000
TZNAME:GMT
DTSTART:20171029T010000
END:STANDARD
BEGIN:DAYLIGHT
TZOFFSETFROM:+0000
TZOFFSETTO:+0100
TZNAME:BST
DTSTART:20180325T010000
END:DAYLIGHT
BEGIN:STANDARD
TZOFFSETFROM:+0100
TZOFFSETTO:+0000
TZNAME:GMT
DTSTART:20181028T010000
END:STANDARD
BEGIN:DAYLIGHT
TZOFFSETFROM:+0000
TZOFFSETTO:+0100
TZNAME:BST
DTSTART:20190331T010000
END:DAYLIGHT
BEGIN:STANDARD
TZOFFSETFROM:+0100
TZOFFSETTO:+0000
TZNAME:GMT
DTSTART:20191027T010000
END:STANDARD
BEGIN:DAYLIGHT
TZOFFSETFROM:+0000
TZOFFSETTO:+0100
TZNAME:BST
DTSTART:20200329T010000
END:DAYLIGHT
BEGIN:STANDARD
TZOFFSETFROM:+0100
TZOFFSETTO:+0000
TZNAME:GMT
DTSTART:20201025T010000
END:STANDARD
BEGIN:DAYLIGHT
TZOFFSETFROM:+0000
TZOFFSETTO:+0100
TZNAME:BST
DTSTART:20210328T010000
END:DAYLIGHT
BEGIN:STANDARD
TZOFFSETFROM:+0100
TZOFFSETTO:+0000
TZNAME:GMT
DTSTART:20211031T010000
END:STANDARD
BEGIN:DAYLIGHT
TZOFFSETFROM:+0000
TZOFFSETTO:+0100
TZNAME:BST
DTSTART:20220327T010000
END:DAYLIGHT
BEGIN:STANDARD
TZOFFSETFROM:+0100
TZOFFSETTO:+0000
TZNAME:GMT
DTSTART:20221030T010000
END:STANDARD
BEGIN:DAYLIGHT
TZOFFSETFROM:+0000
TZOFFSETTO:+0100
TZNAME:BST
DTSTART:20230326T010000
END:DAYLIGHT
BEGIN:STANDARD
TZOFFSETFROM:+0100
TZOFFSETTO:+0000
TZNAME:GMT
DTSTART:20231029T010000
END:STANDARD
END:VTIMEZONE
BEGIN:VEVENT
DTSTART;TZID=Europe/London:20221215T190000
DTEND;TZID=Europe/London:20221215T220000
DTSTAMP:20260419T135804
CREATED:20221128T162925Z
LAST-MODIFIED:20221203T121959Z
UID:6174-1671130800-1671141600@amisha.co.uk
SUMMARY:Winter Solstice Ritual at 42 Acres
DESCRIPTION:A beautiful evening hosted by “all that we are” to celebrate the winter solstice as a community. \nThis will take place in the mongolian yurt with a fire ceremony. \nWinter Solstice is one of the most important times in the year to honour\, as the light of the sun that feeds and nourishes us begins a new solar cycle. We are in the time here of the longest and darkest nights. This takes us deeper into the darkness and our own darkness\, not as something to fear but as a place of illumination so we may grow and transform. \nThere will be a ritual guided by Amisha with chanting\, energy work\, meditation and movement – preparing us for the holidays and the depth of winter. \nWe will offer an opportunity to journey into your heart with Cacao. And the movement will include yoga and free flowing dance. \nOur ritual will honour endings and beginnings\, with fire ceremony that allows us to connect with the light in the darkness. It will offer space to let go and to open to something new. Something deeply potent happens when we gather together in community to honour these powerful times. \n(The last event we held in November sold out. It was really special and we know this one will be too) \nAmisha has offered beautiful rituals all over the world including Bali\, Goa\, London\, Ibiza\, Croatia and New York. She is delighted to be sharing these in Somerset where she now lives\, to bring our local community together. \n+ Tickets are available here \n  \n 
URL:https://amisha.co.uk/event/winter-solstice-ritual-at-42-acres/
LOCATION:42 Acres\, Somerset\, BA11 5HL
CATEGORIES:Community,Ritual
ATTACH;FMTTYPE=image/jpeg:https://amisha.co.uk/wp-content/uploads/2022/11/5d002b86adcab9b9657d3d978ebcc806.jpg
END:VEVENT
BEGIN:VEVENT
DTSTART;TZID=Europe/London:20220823T190000
DTEND;TZID=Europe/London:20220823T203000
DTSTAMP:20260419T135804
CREATED:20220811T152836Z
LAST-MODIFIED:20220811T155458Z
UID:6108-1661281200-1661286600@amisha.co.uk
SUMMARY:Soul space with amisha
DESCRIPTION:This is a monthly opportunity for members of “all that we are” to gather with podcast host and facilitator of the sacred amisha ghadiali\, for a nourishing and inspiring experience. In these sessions\, you will receive a half an hour practice – a meditation\, energy clearing activation. Then there will be open space to ask Amisha questions\, these can either be related to podcast episodes\, or concepts shared in them\, or an opportunity to receive on the spot mentoring for a challenge in your life. \nThese sessions create community space for the soul (where we don’t have to play algorithms to see or hear each other). We can just be together\, in the field of our fullness with practices and conversations that are supportive and uplifting. Soul space replaces both the presence collective circles and the future is beautiful patron circles\, to be a more powerful offering for these times. \nWe host these at different times of the day and month to make them accessible to the different time zones of this global community. They are 90 mins and we ask that you join for the whole session to deepen the space we co-create. \nTo join this\, please become a member of “all that we are” – you can find out how here – https://allthatweare.org/support \n  \nTues 23rd August 7-8.30pm London \n2pm New York\, 11am Los Angeles\, 8pm Paris\, 12.30am Mumbai\, 2am Bali \n  \nFuture events so that you can put them in your diary to save the date are: \n\nSept:\n\nTuesday 20th September 7-8.30pm London\n\n\n2pm New York\, 11am Los Angeles\, 8pm Paris\, 12.30am Mumbai\, 2am Bali\n\n\nOct:\n\nSunday 16th October 2-3.30pm London\n\n9am New York\, 6am Los Angeles\, 3pm Paris\, 7.30pm Mumbai\, 9pm Bali\n\n\nNov:\n\nTues 15th Nov 7-8.30pm London\n\n 2pm New York\, 11am Los Angeles\, 8pm Paris\, 12.30am Mumbai\, 2am Bali\n\n\nDec:\n\nTues 6th Dec  7-8.30pm London\n\n2pm New York\, 11am Los Angeles\, 8pm Paris\, 12.30am Mumbai\, 2am Bali\n\n\nJan:\n\n\nSunday 15th January 3-4.30pm London\n\n10am New York\, 7am Los Angeles\, 4pm Paris\, 8.30pm Mumbai\, 10pm Bali\n\n\n\nFeb:\n\nSunday 12th February 3-4.30pm London\n\n\n\n10am New York\, 7am Los Angeles\, 4pm Paris\, 8.30pm Mumbai\, 10pm Bali
URL:https://amisha.co.uk/event/soul-space-with-amisha/
LOCATION:online
CATEGORIES:All That We Are,Community
ATTACH;FMTTYPE=image/png:https://amisha.co.uk/wp-content/uploads/2022/08/soul-space-with-amisha.png
END:VEVENT
BEGIN:VEVENT
DTSTART;TZID=Europe/London:20211102T080000
DTEND;TZID=Europe/London:20211107T170000
DTSTAMP:20260419T135804
CREATED:20211104T053821Z
LAST-MODIFIED:20211104T054202Z
UID:5940-1635840000-1636304400@amisha.co.uk
SUMMARY:Style & Presence Summit
DESCRIPTION:A Reclamation of Worth – access to all this feminine wisdom over Diwali \nIt feels like a time of birthing new possibility inside ourselves and in our world. A time of reunderstanding ourselves and rewriting our story. Last year over these days\, I hosted this fantastic womxn’s summit called Style & Presence. This year over this festival\, I am offering it again as a gift to all that identify as woman. It is packed with SO MUCH INCREDIBLE WISDOM\, from these 52 women including Sonya Renee Taylor\, Miki Agrawal\, Swaady Martin and Pat McCabe.There are 26 sessions for you to watch over this week. I wanted to give it all as a gift\, as I know those of you there last year may not have watched everything\, and those who missed it would love to be part this time around. For this Diwali\, you receive access to the fantastic 26 sessions we made last year over five days\, as well as the live ritual and sister circle to honour our worth on Thursday 4th Nov at 5.30pm London\, 10.30am LA\, 1.30pm NY.It’s free until Sunday\, over the five days of Diwali and an extra day for lunar Samhain. So do dive in\, even if you just watch one\, I am sure it will have something powerful to offer.You can find out all about it and register for the event here.
URL:https://amisha.co.uk/event/style-presence-summit/
CATEGORIES:Community,Hosting
ATTACH;FMTTYPE=image/png:https://amisha.co.uk/wp-content/uploads/2021/11/styleandpresencebloc.png
END:VEVENT
BEGIN:VEVENT
DTSTART;TZID=Europe/London:20210923T080000
DTEND;TZID=Europe/London:20210926T170000
DTSTAMP:20260419T135804
CREATED:20210722T085059Z
LAST-MODIFIED:20210825T080224Z
UID:5874-1632384000-1632675600@amisha.co.uk
SUMMARY:The Weave (in person retreat)
DESCRIPTION:You are invited to…. The Weave \nCome and be in community as we co-create this beautiful gathering\, with others who have also been moved and inspired by what has been shared on the podcast over the years. This will be a non pretentious space for us to share our gifts with each other\, share meals and be in held in the powerful embrace of nature. The programme will come from those who are attending\, and what you want to offer\, and as many haven’t been in physical spaces for a while\, we will offer also free and open time to simply enjoy conversations\, walks and swims across the land. We will dance and weave together threads of presence and the future…. \nI know this has been a longing in so many of your hearts\, and so we are so pleased that is is happening just at the turning of Autumn Equinox and under the waning glow of the full moon. \nThe land we are going to be on is very special with places to sit around the fire\, a stone circle\, a lake\, a mound to look at the stars from and much more. There is indoor space as well as outdoor space and we hope as it’s been a slow start to summer that the good weather and sunshine will grace us. \nThis gathering is something between a retreat and a festival. We hope you will leave nourished in so many ways and it will feed your inspiration and creativity as we move into Autumn and Winter. \n  \nFull Details & Tickets available here
URL:https://amisha.co.uk/event/the-weave/
LOCATION:Embercombe\, Higher Ashton\, Devon\, EX6 7QQ\, United Kingdom
CATEGORIES:Community,Festivals,The Future Is Beautiful
ATTACH;FMTTYPE=image/png:https://amisha.co.uk/wp-content/uploads/2021/07/the-weave.png
END:VEVENT
BEGIN:VEVENT
DTSTART;TZID=Europe/London:20160906T190000
DTEND;TZID=Europe/London:20160906T213000
DTSTAMP:20260419T135804
CREATED:20160830T174601Z
LAST-MODIFIED:20160905T100444Z
UID:4439-1473188400-1473197400@amisha.co.uk
SUMMARY:Yoga & Daal with Mischa Varmuza
DESCRIPTION:An evening of yoga practices\, meditation and food at Shiva in the Sky. \nJoin Amisha and Mischa for a 90 minute practice followed by a guided meditation and sweet relaxation. \nAfterwards we will share food and tea together. \nIf anyone is interested in joining us for the weekend retreat in October this will also be a perfect opportunity to experience some of the practices and ask us any questions. \nSuggested donation – £15 \nBook here
URL:https://amisha.co.uk/event/yoga-daal-mischa-varmuza/
LOCATION:Shiva In The Sky\, Highbury\, London\, N5 1BA\, United Kingdom
CATEGORIES:Community,Meditation,Retreats,Yoga
ATTACH;FMTTYPE=image/png:https://amisha.co.uk/wp-content/uploads/2016/08/yoga-daal.png
ORGANIZER;CN="Amisha Yoga & Meditation ":MAILTO:takeamoment (at) amisha.co.uk
END:VEVENT
END:VCALENDAR